BEGIN:VCALENDAR
VERSION:2.0
PRODID:-//Harvard Forest - ECPv6.15.17.1//NONSGML v1.0//EN
CALSCALE:GREGORIAN
METHOD:PUBLISH
X-ORIGINAL-URL:https://harvardforest.fas.harvard.edu
X-WR-CALDESC:Events for Harvard Forest
REFRESH-INTERVAL;VALUE=DURATION:PT1H
X-Robots-Tag:noindex
X-PUBLISHED-TTL:PT1H
BEGIN:VTIMEZONE
TZID:America/New_York
BEGIN:DAYLIGHT
TZOFFSETFROM:-0500
TZOFFSETTO:-0400
TZNAME:EDT
DTSTART:20240310T070000
END:DAYLIGHT
BEGIN:STANDARD
TZOFFSETFROM:-0400
TZOFFSETTO:-0500
TZNAME:EST
DTSTART:20241103T060000
END:STANDARD
BEGIN:DAYLIGHT
TZOFFSETFROM:-0500
TZOFFSETTO:-0400
TZNAME:EDT
DTSTART:20250309T070000
END:DAYLIGHT
BEGIN:STANDARD
TZOFFSETFROM:-0400
TZOFFSETTO:-0500
TZNAME:EST
DTSTART:20251102T060000
END:STANDARD
BEGIN:DAYLIGHT
TZOFFSETFROM:-0500
TZOFFSETTO:-0400
TZNAME:EDT
DTSTART:20260308T070000
END:DAYLIGHT
BEGIN:STANDARD
TZOFFSETFROM:-0400
TZOFFSETTO:-0500
TZNAME:EST
DTSTART:20261101T060000
END:STANDARD
END:VTIMEZONE
BEGIN:VEVENT
DTSTART;TZID=America/New_York:20250508T190000
DTEND;TZID=America/New_York:20250508T203000
DTSTAMP:20260421T185255
CREATED:20250313T200037Z
LAST-MODIFIED:20250501T005555Z
UID:3018-1746730800-1746736200@harvardforest.fas.harvard.edu
SUMMARY:Public Film Premiere: Views from a Woodlot
DESCRIPTION:Join us on Thursday\, May 8 at 7:00pm for the premiere screening of Views From a Woodlot\, a documentary short film by Chris Hardee that profiles longtime forester Bruce Spencer\, who stewarded Massachusetts’ 100\,000-acre Quabbin Reservation for over 40 years. Now retired\, Spencer has daily visits to the 150-acre woodlot that he stewards\, guided by the same low-impact forest management philosophy that he used on the job. \nFollowing the film\, there will be a Q&A with the filmmaker Chris Hardee of High Cairn Films\, And Bruce Spencer\, retired Chief Forester of the Quabbin Reservation and subject of the film. \nFor more info about the 18-minute film\, visit the High Cairn Films’ Views From a Woodlot webpage. \nRSVP not required. Free and open to all. This event will occur at the Harvard Forest Fisher Museum\, located at 324 North Main St.\, Petersham\, MA. For information on visiting\, please click here.  \nThe Harvard Forest welcomes individuals with disabilities to participate in its programs and activities. If you require visitor accommodations\, please contact hfvisit@fas.harvard.edu or 978-724-3302\, preferably at least one week in advance of your visit. 
URL:https://harvardforest.fas.harvard.edu/event/film-premiere-views-from-a-woodlot/
LOCATION:Harvard Forest – Fisher Museum\, 324 N. Main St\, Petersham\, MA\, 01366\, United States
ATTACH;FMTTYPE=image/jpeg:https://harvardforest.fas.harvard.edu/wp-content/uploads/2025/03/Pisgah_2019_CloseUpOfBark_EJ-scaled.jpg
END:VEVENT
END:VCALENDAR