BEGIN:VCALENDAR
VERSION:2.0
PRODID:-//Harvard Forest - ECPv6.15.17.1//NONSGML v1.0//EN
CALSCALE:GREGORIAN
METHOD:PUBLISH
X-ORIGINAL-URL:https://harvardforest.fas.harvard.edu
X-WR-CALDESC:Events for Harvard Forest
REFRESH-INTERVAL;VALUE=DURATION:PT1H
X-Robots-Tag:noindex
X-PUBLISHED-TTL:PT1H
BEGIN:VTIMEZONE
TZID:America/New_York
BEGIN:DAYLIGHT
TZOFFSETFROM:-0500
TZOFFSETTO:-0400
TZNAME:EDT
DTSTART:20240310T070000
END:DAYLIGHT
BEGIN:STANDARD
TZOFFSETFROM:-0400
TZOFFSETTO:-0500
TZNAME:EST
DTSTART:20241103T060000
END:STANDARD
BEGIN:DAYLIGHT
TZOFFSETFROM:-0500
TZOFFSETTO:-0400
TZNAME:EDT
DTSTART:20250309T070000
END:DAYLIGHT
BEGIN:STANDARD
TZOFFSETFROM:-0400
TZOFFSETTO:-0500
TZNAME:EST
DTSTART:20251102T060000
END:STANDARD
BEGIN:DAYLIGHT
TZOFFSETFROM:-0500
TZOFFSETTO:-0400
TZNAME:EDT
DTSTART:20260308T070000
END:DAYLIGHT
BEGIN:STANDARD
TZOFFSETFROM:-0400
TZOFFSETTO:-0500
TZNAME:EST
DTSTART:20261101T060000
END:STANDARD
END:VTIMEZONE
BEGIN:VEVENT
DTSTART;TZID=America/New_York:20250430T190000
DTEND;TZID=America/New_York:20250430T200000
DTSTAMP:20260419T165553
CREATED:20250327T155858Z
LAST-MODIFIED:20250327T162422Z
UID:3626-1746039600-1746043200@harvardforest.fas.harvard.edu
SUMMARY:Fisher Museum Volunteer Training Session
DESCRIPTION:Harvard Forest relies on a team of approximately 35 volunteers that assist in staffing the Fisher Museum on weekends. \nInterested in becoming a volunteer? This evening training will provide information on responsibilities\, including welcoming visitors\, selling merchandise\, and answering basic questions. \nLight refreshments provided. RSVP not required. For more information\, contact hf-edu@fas.harvard.edu.
URL:https://harvardforest.fas.harvard.edu/event/fisher-museum-volunteer-training-session/
LOCATION:Harvard Forest – Fisher Museum\, 324 N. Main St\, Petersham\, MA\, 01366\, United States
ATTACH;FMTTYPE=image/jpeg:https://harvardforest.fas.harvard.edu/wp-content/uploads/2025/03/FisherMuseum_2025_Dioramas_BGS-1-scaled.jpg
END:VEVENT
END:VCALENDAR