BEGIN:VCALENDAR
VERSION:2.0
PRODID:-//Harvard Forest - ECPv6.15.17.1//NONSGML v1.0//EN
CALSCALE:GREGORIAN
METHOD:PUBLISH
X-ORIGINAL-URL:https://harvardforest.fas.harvard.edu
X-WR-CALDESC:Events for Harvard Forest
REFRESH-INTERVAL;VALUE=DURATION:PT1H
X-Robots-Tag:noindex
X-PUBLISHED-TTL:PT1H
BEGIN:VTIMEZONE
TZID:America/New_York
BEGIN:DAYLIGHT
TZOFFSETFROM:-0500
TZOFFSETTO:-0400
TZNAME:EDT
DTSTART:20240310T070000
END:DAYLIGHT
BEGIN:STANDARD
TZOFFSETFROM:-0400
TZOFFSETTO:-0500
TZNAME:EST
DTSTART:20241103T060000
END:STANDARD
BEGIN:DAYLIGHT
TZOFFSETFROM:-0500
TZOFFSETTO:-0400
TZNAME:EDT
DTSTART:20250309T070000
END:DAYLIGHT
BEGIN:STANDARD
TZOFFSETFROM:-0400
TZOFFSETTO:-0500
TZNAME:EST
DTSTART:20251102T060000
END:STANDARD
BEGIN:DAYLIGHT
TZOFFSETFROM:-0500
TZOFFSETTO:-0400
TZNAME:EDT
DTSTART:20260308T070000
END:DAYLIGHT
BEGIN:STANDARD
TZOFFSETFROM:-0400
TZOFFSETTO:-0500
TZNAME:EST
DTSTART:20261101T060000
END:STANDARD
END:VTIMEZONE
BEGIN:VEVENT
DTSTART;TZID=America/New_York:20250423T163000
DTEND;TZID=America/New_York:20250423T173000
DTSTAMP:20260422T140809
CREATED:20250405T205820Z
LAST-MODIFIED:20250428T141459Z
UID:4000-1745425800-1745429400@harvardforest.fas.harvard.edu
SUMMARY:Public Seminar: The Business Case for Nature
DESCRIPTION:Hosted by Harvard University’s Salata Institute for Climate and Sustainability\, The Business Case for Nature: Opportunities\, Achievements\, and Challenges in Restoring Native Tropical Forests\, will be an engaging presentation and discussion on the critical role of ecological restoration in tackling the global climate and nature crises. The presentation will feature Harvard Forest Director in Residence Jonathan Thompson and Thiago Picolo\, CEO of re.green\, Bazil’s leading ecological restoration company. \nHear insights from a leading for-profit company in the sector\, as we explore the global market for nature-based solutions. The event will highlight key achievements and lessons learned from the first three years of re.green\, alongside the challenges faced in scaling the company’s impact and the broader sector. \nRegister for this in-person event\, located in Cambridge\, here.
URL:https://harvardforest.fas.harvard.edu/event/the-business-case-for-nature-opportunities-achievements-and-challenges-in-restoring-native-tropical-forests/
LOCATION:79 JFK St.\, Cambridge\, MA\, 79 Belfer Center (Salata Conference Room)\, Cambridge\, MA\, United States
ATTACH;FMTTYPE=image/png:https://harvardforest.fas.harvard.edu/wp-content/uploads/2025/04/IMG_0734.png
END:VEVENT
END:VCALENDAR