BEGIN:VCALENDAR
VERSION:2.0
PRODID:-//Harvard Forest - ECPv6.15.17.1//NONSGML v1.0//EN
CALSCALE:GREGORIAN
METHOD:PUBLISH
X-ORIGINAL-URL:https://harvardforest.fas.harvard.edu
X-WR-CALDESC:Events for Harvard Forest
REFRESH-INTERVAL;VALUE=DURATION:PT1H
X-Robots-Tag:noindex
X-PUBLISHED-TTL:PT1H
BEGIN:VTIMEZONE
TZID:America/New_York
BEGIN:DAYLIGHT
TZOFFSETFROM:-0500
TZOFFSETTO:-0400
TZNAME:EDT
DTSTART:20240310T070000
END:DAYLIGHT
BEGIN:STANDARD
TZOFFSETFROM:-0400
TZOFFSETTO:-0500
TZNAME:EST
DTSTART:20241103T060000
END:STANDARD
BEGIN:DAYLIGHT
TZOFFSETFROM:-0500
TZOFFSETTO:-0400
TZNAME:EDT
DTSTART:20250309T070000
END:DAYLIGHT
BEGIN:STANDARD
TZOFFSETFROM:-0400
TZOFFSETTO:-0500
TZNAME:EST
DTSTART:20251102T060000
END:STANDARD
BEGIN:DAYLIGHT
TZOFFSETFROM:-0500
TZOFFSETTO:-0400
TZNAME:EDT
DTSTART:20260308T070000
END:DAYLIGHT
BEGIN:STANDARD
TZOFFSETFROM:-0400
TZOFFSETTO:-0500
TZNAME:EST
DTSTART:20261101T060000
END:STANDARD
END:VTIMEZONE
BEGIN:VEVENT
DTSTART;TZID=America/New_York:20250409T110000
DTEND;TZID=America/New_York:20250409T120000
DTSTAMP:20260422T140459
CREATED:20250327T170543Z
LAST-MODIFIED:20250428T141529Z
UID:3645-1744196400-1744200000@harvardforest.fas.harvard.edu
SUMMARY:Public Seminar: Morgan Furze
DESCRIPTION:Join the Harvard Forest community for a seminar by guest speaker Morgan Furze for her talk\, “Physiology\, ecology\, and evolution of carbohydrate storage in trees.” Morgan is Assistant Professor in the Department of Botany and Plant Pathology and the Department of Forestry and Natural Resources at Purdue University. \nThis event is in-person only; seminar will occur in Harvard Forest’s Main Building (adjacent to the Fisher Museum). \nRSVP not required.
URL:https://harvardforest.fas.harvard.edu/event/seminar-morgan-furze/
LOCATION:Harvard Forest – Main Building\, 324 Main St\, Petersham\, MA\, 01366\, United States
END:VEVENT
END:VCALENDAR